BEGIN:VCALENDAR
VERSION:2.0
PRODID:-//@the Grounds - ECPv6.15.17.1//NONSGML v1.0//EN
CALSCALE:GREGORIAN
METHOD:PUBLISH
X-WR-CALNAME:@the Grounds
X-ORIGINAL-URL:https://www.atthegrounds.com
X-WR-CALDESC:Events for @the Grounds
REFRESH-INTERVAL;VALUE=DURATION:PT1H
X-Robots-Tag:noindex
X-PUBLISHED-TTL:PT1H
BEGIN:VTIMEZONE
TZID:America/Los_Angeles
BEGIN:DAYLIGHT
TZOFFSETFROM:-0800
TZOFFSETTO:-0700
TZNAME:PDT
DTSTART:20220313T100000
END:DAYLIGHT
BEGIN:STANDARD
TZOFFSETFROM:-0700
TZOFFSETTO:-0800
TZNAME:PST
DTSTART:20221106T090000
END:STANDARD
BEGIN:DAYLIGHT
TZOFFSETFROM:-0800
TZOFFSETTO:-0700
TZNAME:PDT
DTSTART:20230312T100000
END:DAYLIGHT
BEGIN:STANDARD
TZOFFSETFROM:-0700
TZOFFSETTO:-0800
TZNAME:PST
DTSTART:20231105T090000
END:STANDARD
BEGIN:DAYLIGHT
TZOFFSETFROM:-0800
TZOFFSETTO:-0700
TZNAME:PDT
DTSTART:20240310T100000
END:DAYLIGHT
BEGIN:STANDARD
TZOFFSETFROM:-0700
TZOFFSETTO:-0800
TZNAME:PST
DTSTART:20241103T090000
END:STANDARD
END:VTIMEZONE
BEGIN:VEVENT
DTSTART;TZID=America/Los_Angeles:20230916T080000
DTEND;TZID=America/Los_Angeles:20230917T170000
DTSTAMP:20260423T012156
CREATED:20230901T162803Z
LAST-MODIFIED:20230914T220832Z
UID:14154-1694851200-1694970000@www.atthegrounds.com
SUMMARY:NCVA Boys Volleyball
DESCRIPTION:Power League\n  \nUpcoming Northern California Volleyball Association Boys Division events @the Grounds in the Roebbelen Center: \nSeptember 16 & 1 7– NCVA 2023-2024 Boys’ Power League Qualifier (16’s and 12’s) \n  \nBook Hotels Here
URL:https://www.atthegrounds.com/event/ncva-boys-volley-ball/
LOCATION:Roebbelen Center (Entire)  – @the Grounds
CATEGORIES:Sports - Volleyball
ATTACH;FMTTYPE=image/jpeg:https://www.atthegrounds.com/wp-content/uploads/2023/08/ncva-1.jpg
END:VEVENT
BEGIN:VEVENT
DTSTART;VALUE=DATE:20230913
DTEND;VALUE=DATE:20230915
DTSTAMP:20260423T012156
CREATED:20230511T182520Z
LAST-MODIFIED:20230511T182520Z
UID:14044-1694563200-1694735999@www.atthegrounds.com
SUMMARY:Sacramento Area Human Resource Association Annual Conference
DESCRIPTION:Join over 300 of the region’s human resource professionals and service providers at this year’s SAHRA Annual Conference. This two-day event will offer attendees the opportunity to network with peers\, learn about important and innovative goods and services and stay current on industry topics through a full program of educational sessions. \nEvent Date(s): September 13-14\, 2023 \n\nHotel Accommodations 
URL:https://www.atthegrounds.com/event/sacramento-area-human-resource-association-annual-conference/
LOCATION:Roebbelen Center (Entire)  – @the Grounds
CATEGORIES:Community Event
ATTACH;FMTTYPE=image/png:https://www.atthegrounds.com/wp-content/uploads/2023/05/Resized-for-PVT-Website-34.png
END:VEVENT
BEGIN:VEVENT
DTSTART;TZID=America/Los_Angeles:20230909T160000
DTEND;TZID=America/Los_Angeles:20230909T210000
DTSTAMP:20260423T012156
CREATED:20230511T165108Z
LAST-MODIFIED:20230901T221615Z
UID:14038-1694275200-1694293200@www.atthegrounds.com
SUMMARY:NASCAR TRIBUTE TO HEROES
DESCRIPTION:  \nSeptember 10th || The All American Speedway || Roseville\, CA \nWild West Super Series Late Models\, Pro Late Models\, Modifieds\, Super Stocks\, F4s\, Jr. Late Models\, Legends Tour Series\, Trailer Bash \nTime: 4:00 PM – 9:00 PM \nHotel Accommodations
URL:https://www.atthegrounds.com/event/all-american-speedway-races-5/
LOCATION:All-American Speedway\, 700 Event Center Drive\, Roseville\, CA\, 95621\, United States
CATEGORIES:Community Event,Racing
ATTACH;FMTTYPE=image/png:https://www.atthegrounds.com/wp-content/uploads/2023/05/all-american-speedway.png
END:VEVENT
BEGIN:VEVENT
DTSTART;VALUE=DATE:20230909
DTEND;VALUE=DATE:20230911
DTSTAMP:20260423T012156
CREATED:20230823T232824Z
LAST-MODIFIED:20230901T221013Z
UID:14145-1694217600-1694390399@www.atthegrounds.com
SUMMARY:NCVA BOYS VOLLEYBALL
DESCRIPTION:Power League\n  \nUpcoming Northern California Volleyball Association Boys Division events @the Grounds in the Roebbelen Center: \nSeptember 9-10: Boy’s Power League Qualifier (18s & 14s) \n  \nBook Hotels Here
URL:https://www.atthegrounds.com/event/ncva-boys-volleyball/
LOCATION:Roebbelen Center (Entire)  – @the Grounds
CATEGORIES:Sports - Volleyball
ATTACH;FMTTYPE=image/jpeg:https://www.atthegrounds.com/wp-content/uploads/2023/08/ncva-1.jpg
END:VEVENT
BEGIN:VEVENT
DTSTART;VALUE=DATE:20230818
DTEND;VALUE=DATE:20230821
DTSTAMP:20260423T012156
CREATED:20230720T235938Z
LAST-MODIFIED:20230801T210158Z
UID:14110-1692316800-1692575999@www.atthegrounds.com
SUMMARY:Tri-County Home and Garden Show
DESCRIPTION:Join us for the 2023 Tri-County Home and Garden Show! Founded on the expertise of participating businesses and the support of the local community\, the team behind the Tri-County Home & Garden Show has become one of the largest and most respected consumer events promoters in California. \n  \nHotel Accommodations
URL:https://www.atthegrounds.com/event/tri-county-home-and-garden-show/
LOCATION:Roebbelen Center (Entire)  – @the Grounds
CATEGORIES:Community Event,Exhibition/Tradeshow
ATTACH;FMTTYPE=image/jpeg:https://www.atthegrounds.com/wp-content/uploads/2023/07/1.jpg
END:VEVENT
BEGIN:VEVENT
DTSTART;VALUE=DATE:20230810
DTEND;VALUE=DATE:20230813
DTSTAMP:20260423T012156
CREATED:20230505T213409Z
LAST-MODIFIED:20230518T164133Z
UID:14031-1691625600-1691884799@www.atthegrounds.com
SUMMARY:Sacramento Quilt\, Craft & Sewing Festival
DESCRIPTION:Come join us for the 2023 Quilt\, Craft & Sewing Festival. You will find a wide variety of sewing\, quilting\, needle art\, and craft supply exhibits from many quality companies. Not to mention make ‘n takes\, free demos\, and daily door prize drawings! \nHotel Accommodations \n 
URL:https://www.atthegrounds.com/event/sacramento-quilt-craft-sewing-festival/
LOCATION:Roebbelen Center (Entire)  – @the Grounds
CATEGORIES:Community Event,Exhibition/Tradeshow
ATTACH;FMTTYPE=image/png:https://www.atthegrounds.com/wp-content/uploads/2023/05/Resized_for_PVT_Website_38-1.png
END:VEVENT
BEGIN:VEVENT
DTSTART;VALUE=DATE:20230729
DTEND;VALUE=DATE:20230731
DTSTAMP:20260423T012156
CREATED:20230712T204928Z
LAST-MODIFIED:20230712T204928Z
UID:14108-1690588800-1690761599@www.atthegrounds.com
SUMMARY:Reptilian Nation Expo
DESCRIPTION:You will find thousands of Reptiles\, Amphibians\, Arachnids\, Isopods\, supplies\, and more! 100\,000 + SQUARE FEET -TONS OF VENDORS!! Enclosures\, Supplies\, Food and More!! \nThis is going to be HUGE!!! \nHotel Accommodations
URL:https://www.atthegrounds.com/event/reptilian-nation-expo-2/
LOCATION:Roebbelen Center (Entire)  – @the Grounds
ATTACH;FMTTYPE=image/png:https://www.atthegrounds.com/wp-content/uploads/2023/05/Reptilian-Nation-Expo.png
END:VEVENT
BEGIN:VEVENT
DTSTART;VALUE=DATE:20230720
DTEND;VALUE=DATE:20230721
DTSTAMP:20260423T012156
CREATED:20230505T211741Z
LAST-MODIFIED:20230706T180116Z
UID:14020-1689811200-1689897599@www.atthegrounds.com
SUMMARY:End of Trails Summer Finale Showcase
DESCRIPTION:Join us on July 20-24\, 2023\, for the End of Trails Summer Finale Showcase. This basketball tournament will showcase talent like no other. \nHotel Accommodations
URL:https://www.atthegrounds.com/event/end-of-trails-summer-finale-showcase/
LOCATION:Roebbelen Center (Entire)  – @the Grounds
CATEGORIES:Community Event,Sports - Basketball
ATTACH;FMTTYPE=image/png:https://www.atthegrounds.com/wp-content/uploads/2023/05/EOT-Calendar.png
END:VEVENT
BEGIN:VEVENT
DTSTART;VALUE=DATE:20230704
DTEND;VALUE=DATE:20230705
DTSTAMP:20260423T012156
CREATED:20221219T180414Z
LAST-MODIFIED:20230414T165857Z
UID:13861-1688428800-1688515199@www.atthegrounds.com
SUMMARY:Fourth of July Fireworks Show
DESCRIPTION:Come join all your neighbors and make new friends at the fireworks show! Sierra View County Club fireworks start at 9:15 pm\, and ours will follow. The grandstand is open and is first come. Concessions and cold drinks for all ages will be open. \n  \nTime: Gates open at 4:00 pm Show starts at 9:30 pm
URL:https://www.atthegrounds.com/event/fourth-of-july-fireworks-show/
LOCATION:Full Facility  – @the Grounds
CATEGORIES:Community Event
ATTACH;FMTTYPE=image/jpeg:https://www.atthegrounds.com/wp-content/uploads/2022/12/celebratory-fireworks-2022-11-16-09-27-00-utc-scaled.jpg
END:VEVENT
BEGIN:VEVENT
DTSTART;VALUE=DATE:20230701
DTEND;VALUE=DATE:20230703
DTSTAMP:20260423T012156
CREATED:20230428T210713Z
LAST-MODIFIED:20230428T210746Z
UID:14019-1688169600-1688342399@www.atthegrounds.com
SUMMARY:NorCal Summer Tip-Off
DESCRIPTION:West Coast Elite’s NorCal Summer Tip-Off tournament will be @the Grounds on July 1-2\, 2023. This is a Boys & Girls 9U-17U tournament. \nHotel Accommodations
URL:https://www.atthegrounds.com/event/norcal-summer-tip-off/
LOCATION:Roebbelen Center (Entire)  – @the Grounds
CATEGORIES:Community Event,Sports - Basketball
ATTACH;FMTTYPE=image/png:https://www.atthegrounds.com/wp-content/uploads/2023/04/west-coast-elite.png
END:VEVENT
BEGIN:VEVENT
DTSTART;TZID=America/Los_Angeles:20230624T160000
DTEND;TZID=America/Los_Angeles:20230624T210000
DTSTAMP:20260423T012156
CREATED:20230511T164652Z
LAST-MODIFIED:20230518T163823Z
UID:14037-1687622400-1687640400@www.atthegrounds.com
SUMMARY:All-American Speedway Races
DESCRIPTION:Come out and experience the races at the All-American Speedway. Watch and feel the cars in the Wild West Super Series Late Models\, Modified Twin Features\, Super Stocks\, F4s\, and the ever-popular Trailer Bash races! Bring the kids for a one-of-a-kind experience! \nEvent Date(s):  \nMay 13 & 20 \nJune 17 & 24 \nSeptember 9 & 30 \nOctober 21 \nTime: 4:00 PM – 9:00 PM \nHotel Accommodations
URL:https://www.atthegrounds.com/event/all-american-speedway-races-4/
LOCATION:All-American Speedway\, 700 Event Center Drive\, Roseville\, CA\, 95621\, United States
CATEGORIES:Community Event,Racing
ATTACH;FMTTYPE=image/png:https://www.atthegrounds.com/wp-content/uploads/2023/05/all-american-speedway.png
END:VEVENT
BEGIN:VEVENT
DTSTART;VALUE=DATE:20230622
DTEND;VALUE=DATE:20230626
DTSTAMP:20260423T012156
CREATED:20221219T180716Z
LAST-MODIFIED:20230620T162434Z
UID:13863-1687392000-1687737599@www.atthegrounds.com
SUMMARY:85th Year of the Placer County Fair
DESCRIPTION:Join us for the 85th year of summer fun that starts here! Come celebrate our rich heritage in agriculture\, the arts\, and just plain fun at the carnival. Come check out all the vendors who will be inside the Roebbelen Center with the best air conditioning! All the animals\, carnival\, still exhibits will be here with some in a new location! You gotta come out and see the changes for this year! \n  \nTime: Thursday-Saturday 5:00 pm to 11:00 pm\, Sunday 12:00 pm to 11:00 pm
URL:https://www.atthegrounds.com/event/85th-year-of-the-placer-county-fair/
LOCATION:Full Facility  – @the Grounds
CATEGORIES:Community Event
ATTACH;FMTTYPE=image/jpeg:https://www.atthegrounds.com/wp-content/uploads/2022/12/22-06-placercofair03-207_52170761957_o-scaled.jpg
END:VEVENT
BEGIN:VEVENT
DTSTART;TZID=America/Los_Angeles:20230617T160000
DTEND;TZID=America/Los_Angeles:20230617T210000
DTSTAMP:20260423T012156
CREATED:20230511T164043Z
LAST-MODIFIED:20230518T162018Z
UID:14036-1687017600-1687035600@www.atthegrounds.com
SUMMARY:All-American Speedway Races
DESCRIPTION:Come out and experience the races at the All-American Speedway. Watch and feel the cars in the Wild West Super Series Late Models\, Modified Twin Features\, Super Stocks\, F4s\, and the ever-popular Trailer Bash races! Bring the kids for a one-of-a-kind experience! \nEvent Date(s):  \nMay 13 & 20 \nJune 17 & 24 \nSeptember 9 & 30 \nOctober 21 \nTime: 4:00 PM – 9:00 PM \nHotel Accommodations
URL:https://www.atthegrounds.com/event/all-american-speedway-races-3/
LOCATION:All-American Speedway\, 700 Event Center Drive\, Roseville\, CA\, 95621\, United States
CATEGORIES:Community Event,Racing
ATTACH;FMTTYPE=image/png:https://www.atthegrounds.com/wp-content/uploads/2023/05/all-american-speedway.png
END:VEVENT
BEGIN:VEVENT
DTSTART;VALUE=DATE:20230615
DTEND;VALUE=DATE:20230618
DTSTAMP:20260423T012156
CREATED:20230428T210109Z
LAST-MODIFIED:20230614T181943Z
UID:14018-1686787200-1687046399@www.atthegrounds.com
SUMMARY:Girls California Live 2023
DESCRIPTION:Experience the thrill of Girls California Live Basketball Tournament @the Grounds – June 15-17\, 2023. This tournament is a NCAA Certified and CIF Approved Varsity Girls High School Teams Only. \nHotel Accommodations
URL:https://www.atthegrounds.com/event/girls-california-live-2023/
LOCATION:Roebbelen Center (Entire)  – @the Grounds
CATEGORIES:Community Event,Sports - Basketball
ATTACH;FMTTYPE=image/png:https://www.atthegrounds.com/wp-content/uploads/2023/04/cal-live-23.png
END:VEVENT
BEGIN:VEVENT
DTSTART;VALUE=DATE:20230610
DTEND;VALUE=DATE:20230612
DTSTAMP:20260423T012156
CREATED:20221219T180944Z
LAST-MODIFIED:20230329T170333Z
UID:13865-1686355200-1686527999@www.atthegrounds.com
SUMMARY:Nor Cal Invitational Volleyball
DESCRIPTION:14s-17s compete for the National Prep Division. Club Divisions 12s\, 14s\, and 16s also compete and show off their hard-earned skills on the court. The tournament will have over 96 teams! \nHotel Accommodations 
URL:https://www.atthegrounds.com/event/nor-cal-invitational-volleyball/
LOCATION:Roebbelen Center (Entire)  – @the Grounds
CATEGORIES:Sports - Volleyball
ATTACH;FMTTYPE=image/jpeg:https://www.atthegrounds.com/wp-content/uploads/2022/12/E55B5113-scaled.jpg
END:VEVENT
BEGIN:VEVENT
DTSTART;VALUE=DATE:20230603
DTEND;VALUE=DATE:20230605
DTSTAMP:20260423T012156
CREATED:20230428T205214Z
LAST-MODIFIED:20230601T181840Z
UID:14014-1685750400-1685923199@www.atthegrounds.com
SUMMARY:Prime Event West Basketball
DESCRIPTION:The Prime Event West is a 2-day tournament with a 3-game guarantee hosted by Premier Basketball. This basketball tournament will be held in the Roebbelen Center @the Grounds on June 3-4\, 2023. \nHotel Accommodations
URL:https://www.atthegrounds.com/event/premier-event-west-basketball/
LOCATION:Roebbelen Center (Entire)  – @the Grounds
CATEGORIES:Community Event,Sports - Basketball
ATTACH;FMTTYPE=image/png:https://www.atthegrounds.com/wp-content/uploads/2023/04/Prime-Event-West.png
END:VEVENT
BEGIN:VEVENT
DTSTART;VALUE=DATE:20230527
DTEND;VALUE=DATE:20230530
DTSTAMP:20260423T012156
CREATED:20221019T221342Z
LAST-MODIFIED:20230329T170158Z
UID:13770-1685145600-1685404799@www.atthegrounds.com
SUMMARY:NCVA Bay View Classic Tournament
DESCRIPTION:Join us for the revamped end-of-season tournament! These athletes are ready to show off their skills. \nHotel Accommodations
URL:https://www.atthegrounds.com/event/ncva-bay-view-classic-tournament/
LOCATION:Roebbelen Center (Entire)  – @the Grounds
CATEGORIES:Sports - Volleyball
ATTACH;FMTTYPE=image/png:https://www.atthegrounds.com/wp-content/uploads/2022/10/bay-view-classic-2023-logo.png
END:VEVENT
BEGIN:VEVENT
DTSTART;TZID=America/Los_Angeles:20230520T160000
DTEND;TZID=America/Los_Angeles:20230520T210000
DTSTAMP:20260423T012156
CREATED:20230511T163207Z
LAST-MODIFIED:20230518T161751Z
UID:14035-1684598400-1684616400@www.atthegrounds.com
SUMMARY:All-American Speedway Races
DESCRIPTION:Come out and experience the races at the All-American Speedway. Watch and feel the cars in the Wild West Super Series Late Models\, Modified Twin Features\, Super Stocks\, F4s\, and the ever-popular Trailer Bash races! Bring the kids for a one-of-a-kind experience! \nEvent Date(s):  \nMay 13 & 20 \nJune 17 & 24 \nSeptember 9 & 30 \nOctober 21 \nTime: 4:00 PM – 9:00 PM \nHotel Accommodations
URL:https://www.atthegrounds.com/event/all-american-speedway-races-2/
LOCATION:All-American Speedway\, 700 Event Center Drive\, Roseville\, CA\, 95621\, United States
CATEGORIES:Community Event,Racing
ATTACH;FMTTYPE=image/png:https://www.atthegrounds.com/wp-content/uploads/2023/05/all-american-speedway.png
END:VEVENT
BEGIN:VEVENT
DTSTART;VALUE=DATE:20230520
DTEND;VALUE=DATE:20230522
DTSTAMP:20260423T012156
CREATED:20221019T221055Z
LAST-MODIFIED:20230329T170100Z
UID:13768-1684540800-1684713599@www.atthegrounds.com
SUMMARY:Hardwood Palace Hoopin’ @the Grounds Basketball Tournament
DESCRIPTION:Join us May 20-21\, 2023: Hoopin’ at the Grounds Classic. \nHotel Accommodations
URL:https://www.atthegrounds.com/event/hardwood-palace-hoopin-the-grounds-basketball-tournament/
LOCATION:Roebbelen Center (Entire)  – @the Grounds
CATEGORIES:Sports - Basketball
ATTACH;FMTTYPE=image/jpeg:https://www.atthegrounds.com/wp-content/uploads/2022/10/Hoopin-at-Grounds-new.jpg
END:VEVENT
BEGIN:VEVENT
DTSTART;VALUE=DATE:20230519
DTEND;VALUE=DATE:20230522
DTSTAMP:20260423T012156
CREATED:20230223T222818Z
LAST-MODIFIED:20230223T222947Z
UID:13932-1684454400-1684713599@www.atthegrounds.com
SUMMARY:Sacramento Sports Card & Autograph Expo
DESCRIPTION:During the three-day gathering\, collectors can engage in multiple interactions\, obtain autographs from fifteen different celebrities\, and acquire sports cards and memorabilia from vendors. Additionally\, six VIP autograph signers will be available for all three days of the event\, from Friday to Sunday. \nFRIDAY 3:00PM-7:00PM\nSATURDAY 9:00AM-6:00PM\nSUNDAY 9:00AM-5:00PM \nView Hotel Options
URL:https://www.atthegrounds.com/event/sacramento-sports-card-autograph-expo/
LOCATION:Johnson Hall
CATEGORIES:Community Event
ATTACH;FMTTYPE=image/jpeg:https://www.atthegrounds.com/wp-content/uploads/2020/02/jones-full.jpg
END:VEVENT
BEGIN:VEVENT
DTSTART;TZID=America/Los_Angeles:20230513T160000
DTEND;TZID=America/Los_Angeles:20230513T210000
DTSTAMP:20260423T012156
CREATED:20230511T162329Z
LAST-MODIFIED:20230511T164834Z
UID:14033-1683993600-1684011600@www.atthegrounds.com
SUMMARY:All-American Speedway Races
DESCRIPTION:Come out and experience the races at the All-American Speedway. Watch and feel the cars in the Wild West Super Series Late Models\, Modified Twin Features\, Super Stocks\, F4s\, and the ever-popular Trailer Bash races! Bring the kids for a one-of-a-kind experience! \nEvent Date(s):  \nMay 13 & 20 \nJune 17 & 24 \nSeptember 9 & 30 \nOctober 21 \nTime: 4:00 PM – 9:00 PM \nHotel Accommodations
URL:https://www.atthegrounds.com/event/all-american-speedway-races/
LOCATION:All-American Speedway\, 700 Event Center Drive\, Roseville\, CA\, 95621\, United States
CATEGORIES:Community Event,Racing
ATTACH;FMTTYPE=image/png:https://www.atthegrounds.com/wp-content/uploads/2023/05/all-american-speedway.png
END:VEVENT
BEGIN:VEVENT
DTSTART;VALUE=DATE:20230513
DTEND;VALUE=DATE:20230515
DTSTAMP:20260423T012156
CREATED:20221219T181555Z
LAST-MODIFIED:20221230T215154Z
UID:13869-1683936000-1684108799@www.atthegrounds.com
SUMMARY:Under Armour Future Circuit Basketball
DESCRIPTION:View Hotel Options
URL:https://www.atthegrounds.com/event/under-armour-future-circuit-basketball/
LOCATION:Roebbelen Center (Entire)  – @the Grounds
CATEGORIES:Sports - Basketball
ATTACH;FMTTYPE=image/jpeg:https://www.atthegrounds.com/wp-content/uploads/2022/12/UA-Future-logo.jpg
END:VEVENT
BEGIN:VEVENT
DTSTART;VALUE=DATE:20230513
DTEND;VALUE=DATE:20230514
DTSTAMP:20260423T012156
CREATED:20221219T181248Z
LAST-MODIFIED:20230407T224303Z
UID:13867-1683936000-1684022399@www.atthegrounds.com
SUMMARY:Na Maka Luau & Hula Show
DESCRIPTION:Instead of taking Mom out to a restaurant on one of the busiest days of the year\, take her to a luau! Great location\, ono food\, and the best hula show you will experience. \n4:30 pm – doors open\n5:30 pm – dinner and drinks\n7:00 pm – hula show \nThis show sells out every year so get your tickets early! \n  \n 
URL:https://www.atthegrounds.com/event/na-maka-luau-hula-show/
LOCATION:Johnson Hall
CATEGORIES:Community Event
ATTACH;FMTTYPE=image/jpeg:https://www.atthegrounds.com/wp-content/uploads/2022/12/Namaka-TB.jpg
END:VEVENT
BEGIN:VEVENT
DTSTART;VALUE=DATE:20230508
DTEND;VALUE=DATE:20230512
DTSTAMP:20260423T012156
CREATED:20221019T220841Z
LAST-MODIFIED:20230215T210034Z
UID:13766-1683504000-1683849599@www.atthegrounds.com
SUMMARY:Placer Veterans Stand Down
DESCRIPTION:Placer Veterans Stand Down\, a Non-Profit organization located in Roseville whose mission is to help the Veteran population\, is gearing up for its annual All Veterans and their families are invited to attend. Want to volunteer your professional services? Contact them and help make someone’s day!
URL:https://www.atthegrounds.com/event/placer-veterans-stand-down/
CATEGORIES:Fundraiser
ATTACH;FMTTYPE=image/jpeg:https://www.atthegrounds.com/wp-content/uploads/2022/10/Veterans-stand-down.jpg
END:VEVENT
BEGIN:VEVENT
DTSTART;VALUE=DATE:20230506
DTEND;VALUE=DATE:20230507
DTSTAMP:20260423T012156
CREATED:20230414T165908Z
LAST-MODIFIED:20230414T165908Z
UID:14009-1683331200-1683417599@www.atthegrounds.com
SUMMARY:Roobeez Family Farm Expo
DESCRIPTION:Roobeez is also known as the Poultry and Farm Expo.\nThis unique event has workshops\, live music\, farm vendors\, food and beverages\, and family fun! \n  \nTimes vary; please see the website for more details. 
URL:https://www.atthegrounds.com/event/roobeez-family-farm-expo/
LOCATION:Barn 2  – @the Grounds
CATEGORIES:Community Event
ATTACH;FMTTYPE=image/png:https://www.atthegrounds.com/wp-content/uploads/2023/04/large-boobeez.png
END:VEVENT
BEGIN:VEVENT
DTSTART;VALUE=DATE:20230505
DTEND;VALUE=DATE:20230506
DTSTAMP:20260423T012156
CREATED:20221019T220437Z
LAST-MODIFIED:20221019T220437Z
UID:13764-1683244800-1683331199@www.atthegrounds.com
SUMMARY:Sierra Pregnancy and Health Light and Life Gala presented by Mosely Collins Law
DESCRIPTION:This benefit is a wonderful evening to raise money to help those who need it. Dinner\, drinks\, raffle prize\, and silent auction. \nTime: 5:00 pm to 9:00 pm
URL:https://www.atthegrounds.com/event/sierra-pregnancy-and-health-light-and-life-gala-presented-by-mosely-collins-law/
LOCATION:Jones Hall  – @the Grounds
CATEGORIES:Fundraiser
ATTACH;FMTTYPE=image/jpeg:https://www.atthegrounds.com/wp-content/uploads/2022/10/8T2A1818-scaled.jpg
END:VEVENT
BEGIN:VEVENT
DTSTART;TZID=America/Los_Angeles:20230429T170000
DTEND;TZID=America/Los_Angeles:20230429T200000
DTSTAMP:20260423T012156
CREATED:20230330T183832Z
LAST-MODIFIED:20230330T184912Z
UID:13983-1682787600-1682798400@www.atthegrounds.com
SUMMARY:NASCAR Season Opener
DESCRIPTION:Start the racing season off with the best of the races! Watch and feel the cars in the Wild West Super Series Late Models\, Modified Twin Features\, Super Stocks\, F4s\, and the ever-popular Trailer Bash races! Bring the kids for a one-of-a-kind experience! \n  \nTime: Gates open at 5 p.m.\, and opening ceremonies start at 6 p.m. \n  \nHotel Accommodations
URL:https://www.atthegrounds.com/event/nascar-season-opener/
LOCATION:All-American Speedway\, 700 Event Center Drive\, Roseville\, CA\, 95621\, United States
CATEGORIES:Community Event
ATTACH;FMTTYPE=image/png:https://www.atthegrounds.com/wp-content/uploads/2023/03/all-american-speedway-logo.png
END:VEVENT
BEGIN:VEVENT
DTSTART;VALUE=DATE:20230429
DTEND;VALUE=DATE:20230501
DTSTAMP:20260423T012156
CREATED:20221019T220116Z
LAST-MODIFIED:20221019T220116Z
UID:13762-1682726400-1682899199@www.atthegrounds.com
SUMMARY:West Coast Volleyball Association (WCVA)
DESCRIPTION:The 12-14 year old girls are competing in the Power League.
URL:https://www.atthegrounds.com/event/west-coast-volleyball-association-wcva/
LOCATION:Roebbelen Center (Entire)  – @the Grounds
CATEGORIES:Sports - Volleyball
ATTACH;FMTTYPE=image/jpeg:https://www.atthegrounds.com/wp-content/uploads/2022/10/I53A8424-scaled.jpg
END:VEVENT
BEGIN:VEVENT
DTSTART;VALUE=DATE:20230429
DTEND;VALUE=DATE:20230501
DTSTAMP:20260423T012156
CREATED:20221019T211541Z
LAST-MODIFIED:20230408T000252Z
UID:13745-1682726400-1682899199@www.atthegrounds.com
SUMMARY:West Coast Volleyball Association (WCVBA) Girls Power League
DESCRIPTION:WCVBA Girls Power League is back for another season of high-energy volleyball. \nView Hotel Options
URL:https://www.atthegrounds.com/event/west-coast-volleyball-association-wcva-girls-power-league/
LOCATION:Roebbelen Center (Entire)  – @the Grounds
CATEGORIES:Sports - Volleyball
ATTACH;FMTTYPE=image/jpeg:https://www.atthegrounds.com/wp-content/uploads/2022/10/DSC03352.jpg
END:VEVENT
BEGIN:VEVENT
DTSTART;VALUE=DATE:20230422
DTEND;VALUE=DATE:20230423
DTSTAMP:20260423T012156
CREATED:20221019T215535Z
LAST-MODIFIED:20230403T205657Z
UID:13758-1682121600-1682207999@www.atthegrounds.com
SUMMARY:4th Annual Taco Throwdown
DESCRIPTION:Come enjoy tacos from local restaurants\, sample craft beer and local wines\, and enjoy a day of fun and fellowship\, all included in the ticket price! There will be lawn games\, raffles\, and two bands to entertain you as you rest between taco tastings. Come support a great community event and enjoy a day of fun and food! \nTime: 1:00 pm to 5:00 pm\, VIP check in is 12:00 pm \n 
URL:https://www.atthegrounds.com/event/4th-annual-taco-throwdown/
LOCATION:Johnson Lawn\, United States
CATEGORIES:Community Event
ATTACH;FMTTYPE=image/jpeg:https://www.atthegrounds.com/wp-content/uploads/2022/10/I53A1470-scaled.jpg
END:VEVENT
END:VCALENDAR