BEGIN:VCALENDAR
VERSION:2.0
PRODID:-//@the Grounds - ECPv6.15.17.1//NONSGML v1.0//EN
CALSCALE:GREGORIAN
METHOD:PUBLISH
X-WR-CALNAME:@the Grounds
X-ORIGINAL-URL:https://www.atthegrounds.com
X-WR-CALDESC:Events for @the Grounds
REFRESH-INTERVAL;VALUE=DURATION:PT1H
X-Robots-Tag:noindex
X-PUBLISHED-TTL:PT1H
BEGIN:VTIMEZONE
TZID:America/Los_Angeles
BEGIN:DAYLIGHT
TZOFFSETFROM:-0800
TZOFFSETTO:-0700
TZNAME:PDT
DTSTART:20250309T100000
END:DAYLIGHT
BEGIN:STANDARD
TZOFFSETFROM:-0700
TZOFFSETTO:-0800
TZNAME:PST
DTSTART:20251102T090000
END:STANDARD
BEGIN:DAYLIGHT
TZOFFSETFROM:-0800
TZOFFSETTO:-0700
TZNAME:PDT
DTSTART:20260308T100000
END:DAYLIGHT
BEGIN:STANDARD
TZOFFSETFROM:-0700
TZOFFSETTO:-0800
TZNAME:PST
DTSTART:20261101T090000
END:STANDARD
BEGIN:DAYLIGHT
TZOFFSETFROM:-0800
TZOFFSETTO:-0700
TZNAME:PDT
DTSTART:20270314T100000
END:DAYLIGHT
BEGIN:STANDARD
TZOFFSETFROM:-0700
TZOFFSETTO:-0800
TZNAME:PST
DTSTART:20271107T090000
END:STANDARD
END:VTIMEZONE
BEGIN:VEVENT
DTSTART;VALUE=DATE:20260530
DTEND;VALUE=DATE:20260531
DTSTAMP:20260422T025643
CREATED:20260418T003228Z
LAST-MODIFIED:20260418T003228Z
UID:15108-1780099200-1780185599@www.atthegrounds.com
SUMMARY:All American Speedway NASCAR Spring Smash
DESCRIPTION:NASCAR Spring Smash with Berco Late Model Twins\, Modifieds\, Street Stocks\, Mini Stocks\, INEX Legends\, MWFA Demolition Derby. \n \nClick here for hotel information. 
URL:https://www.atthegrounds.com/event/all-american-speedway-nascar-spring-smash/
LOCATION:All-American Speedway\, 700 Event Center Drive\, Roseville\, CA\, 95621\, United States
CATEGORIES:Racing
ATTACH;FMTTYPE=image/webp:https://www.atthegrounds.com/wp-content/uploads/2025/10/all-american-speedway-logo.webp
END:VEVENT
END:VCALENDAR