BEGIN:VCALENDAR
VERSION:2.0
PRODID:-//@the Grounds - ECPv6.15.17.1//NONSGML v1.0//EN
CALSCALE:GREGORIAN
METHOD:PUBLISH
X-ORIGINAL-URL:https://www.atthegrounds.com
X-WR-CALDESC:Events for @the Grounds
REFRESH-INTERVAL;VALUE=DURATION:PT1H
X-Robots-Tag:noindex
X-PUBLISHED-TTL:PT1H
BEGIN:VTIMEZONE
TZID:America/Los_Angeles
BEGIN:DAYLIGHT
TZOFFSETFROM:-0800
TZOFFSETTO:-0700
TZNAME:PDT
DTSTART:20240310T100000
END:DAYLIGHT
BEGIN:STANDARD
TZOFFSETFROM:-0700
TZOFFSETTO:-0800
TZNAME:PST
DTSTART:20241103T090000
END:STANDARD
BEGIN:DAYLIGHT
TZOFFSETFROM:-0800
TZOFFSETTO:-0700
TZNAME:PDT
DTSTART:20250309T100000
END:DAYLIGHT
BEGIN:STANDARD
TZOFFSETFROM:-0700
TZOFFSETTO:-0800
TZNAME:PST
DTSTART:20251102T090000
END:STANDARD
BEGIN:DAYLIGHT
TZOFFSETFROM:-0800
TZOFFSETTO:-0700
TZNAME:PDT
DTSTART:20260308T100000
END:DAYLIGHT
BEGIN:STANDARD
TZOFFSETFROM:-0700
TZOFFSETTO:-0800
TZNAME:PST
DTSTART:20261101T090000
END:STANDARD
END:VTIMEZONE
BEGIN:VEVENT
DTSTART;TZID=America/Los_Angeles:20250928T150000
DTEND;TZID=America/Los_Angeles:20250928T220000
DTSTAMP:20260421T073426
CREATED:20250719T234959Z
LAST-MODIFIED:20250917T163901Z
UID:14819-1759071600-1759096800@www.atthegrounds.com
SUMMARY:Cebu Jam Music Festival
DESCRIPTION:The biggest gathering of Cebuano and Bisaya Artists\, Bands\, and Musicians in the USA on its second year. Headliner is Troy Degamo of 40 The Band\, an icon of Original Cebu Music scene in the 80’s and 90’s. Included in his repertoire are classic New Wave and Rock of that era. Enjoy other Cebuano and Bisaya performers with different genres: Folk\, Country\, Reggae\, Island Music\, Indie Rock\, Classic Rock\, Pop Rock\, Metal\, Pop\, Dance\, Ballad\, RnB\, and more. \nMatud Nila\, Usahay\, Mitulo na\, sounds familiar? Come early at 3:00 PM for the PART 1 Bisaya Cultural Show and experience home away from home with our own Bisaya Music. \nCome join this once a year event — the biggest in the USA — and be proud of our Culture as Cebuano or Bisaya in a foreign land. \nClick here for hotels
URL:https://www.atthegrounds.com/event/cebu-jam-music-festival-2/
LOCATION:Attaway Pavilion\, United States
CATEGORIES:Concert,Festivals
ATTACH;FMTTYPE=image/png:https://www.atthegrounds.com/wp-content/uploads/2025/07/Screenshot-2025-07-19-164924.png
END:VEVENT
BEGIN:VEVENT
DTSTART;TZID=America/Los_Angeles:20250830T184500
DTEND;TZID=America/Los_Angeles:20250830T231500
DTSTAMP:20260421T073426
CREATED:20250717T201218Z
LAST-MODIFIED:20250818T182944Z
UID:14810-1756579500-1756595700@www.atthegrounds.com
SUMMARY:Navratri Garba 2025 by Achal Mehta
DESCRIPTION:Get ready for a spectacular night of rhythm\, devotion\, and dance as the legendary Achal Mehta brings the vibrant spirit of Navratri to Roseville! Come out for an unforgettable evening filled with traditional Garba and Dandiya Raas\, soulful music\, and community celebration. \nClick here for Hotels
URL:https://www.atthegrounds.com/event/navratri-garba-2025-by-achal-mehta/
LOCATION:Roebbelen Center (Entire)  – @the Grounds
CATEGORIES:Concert,Festivals
ATTACH;FMTTYPE=image/png:https://www.atthegrounds.com/wp-content/uploads/2025/07/2435.png
END:VEVENT
BEGIN:VEVENT
DTSTART;TZID=America/Los_Angeles:20250823T140000
DTEND;TZID=America/Los_Angeles:20250823T220000
DTSTAMP:20260421T073426
CREATED:20250526T021111Z
LAST-MODIFIED:20250818T182720Z
UID:14749-1755957600-1755986400@www.atthegrounds.com
SUMMARY:The Groove Garden Dance For Roses Tour
DESCRIPTION:Come join us for a day and night filled with music\, dancing\, video\, lights and fun at The Groove Garden Dance For Roses Tour. Get ready to dance all day and into the night with your friends and loved ones. The Groove Garden is a Dance Music Festival Cover Band of Singers\, Musicians\, DJ and Dancers. Enjoy complimentary Face & Body Painting and Stretching from Professional Therapists. A wide variety of Food and Beverages are provided for purchase. \nClick here for Hotels \n 
URL:https://www.atthegrounds.com/event/dance-for-roses-tour-the-garden/
LOCATION:Johnson Lawn\, United States
CATEGORIES:Concert
ATTACH;FMTTYPE=image/png:https://www.atthegrounds.com/wp-content/uploads/2025/05/The-Groove-Garden-logo-scaled.png
END:VEVENT
END:VCALENDAR