BEGIN:VCALENDAR
VERSION:2.0
PRODID:-//@the Grounds - ECPv6.15.17.1//NONSGML v1.0//EN
CALSCALE:GREGORIAN
METHOD:PUBLISH
X-WR-CALNAME:@the Grounds
X-ORIGINAL-URL:https://www.atthegrounds.com
X-WR-CALDESC:Events for @the Grounds
REFRESH-INTERVAL;VALUE=DURATION:PT1H
X-Robots-Tag:noindex
X-PUBLISHED-TTL:PT1H
BEGIN:VTIMEZONE
TZID:America/Los_Angeles
BEGIN:DAYLIGHT
TZOFFSETFROM:-0800
TZOFFSETTO:-0700
TZNAME:PDT
DTSTART:20250309T100000
END:DAYLIGHT
BEGIN:STANDARD
TZOFFSETFROM:-0700
TZOFFSETTO:-0800
TZNAME:PST
DTSTART:20251102T090000
END:STANDARD
BEGIN:DAYLIGHT
TZOFFSETFROM:-0800
TZOFFSETTO:-0700
TZNAME:PDT
DTSTART:20260308T100000
END:DAYLIGHT
BEGIN:STANDARD
TZOFFSETFROM:-0700
TZOFFSETTO:-0800
TZNAME:PST
DTSTART:20261101T090000
END:STANDARD
BEGIN:DAYLIGHT
TZOFFSETFROM:-0800
TZOFFSETTO:-0700
TZNAME:PDT
DTSTART:20270314T100000
END:DAYLIGHT
BEGIN:STANDARD
TZOFFSETFROM:-0700
TZOFFSETTO:-0800
TZNAME:PST
DTSTART:20271107T090000
END:STANDARD
END:VTIMEZONE
BEGIN:VEVENT
DTSTART;VALUE=DATE:20260307
DTEND;VALUE=DATE:20260308
DTSTAMP:20260420T024353
CREATED:20260129T205839Z
LAST-MODIFIED:20260301T181319Z
UID:14983-1772841600-1772927999@www.atthegrounds.com
SUMMARY:Shadow Pack Promotions - IKF PMT Muay Thai
DESCRIPTION:Shadow Pack IKF PMT hits Roseville\, CA on March 7\, 2026\, bringing a full day of high-energy\, semi-contact Point Muay Thai competition. Sanctioned by the IKF\, this event focuses on skill\, control\, and technique in a safe\, competitive environment for athletes of all levels. With official rules\, required protective gear\, and nonstop action starting at noon\, Shadow Pack IKF PMT is the perfect showcase of technical Muay Thai for fighters and fans alike. \n  \n \nClick for hotel information. \n 
URL:https://www.atthegrounds.com/event/shadow-pack-promotions-ikf-pmt-muay-thai-2/
LOCATION:CA
ATTACH;FMTTYPE=image/jpeg:https://www.atthegrounds.com/wp-content/uploads/2026/01/Screenshot-2026-01-29-123311.jpg
END:VEVENT
BEGIN:VEVENT
DTSTART;VALUE=DATE:20260307
DTEND;VALUE=DATE:20260309
DTSTAMP:20260420T024353
CREATED:20260128T182741Z
LAST-MODIFIED:20260210T000603Z
UID:14977-1772841600-1773014399@www.atthegrounds.com
SUMMARY:NorCal Spring Challenge
DESCRIPTION:Get ready for 2 volleyball competition days for all teams with Power and Premier Divisions available at 18’s\, 16’s\, 14’s\, & 12’s in the 2026 NorCal Spring Challenge! \nProfessional R1 Officials for all matches\, ensuring a high-quality event for all Power and Premier level teams. The Spring Challenge is BACK in 2026! \n \nClick here for hotel information. 
URL:https://www.atthegrounds.com/event/norcal-spring-challenge-2/
LOCATION:Roebbelen Center (Entire)  – @the Grounds
CATEGORIES:Sports - Volleyball
ATTACH;FMTTYPE=image/jpeg:https://www.atthegrounds.com/wp-content/uploads/2026/01/4_large.jpg
END:VEVENT
END:VCALENDAR