BEGIN:VCALENDAR
VERSION:2.0
PRODID:-//@the Grounds - ECPv6.15.17.1//NONSGML v1.0//EN
CALSCALE:GREGORIAN
METHOD:PUBLISH
X-ORIGINAL-URL:https://www.atthegrounds.com
X-WR-CALDESC:Events for @the Grounds
REFRESH-INTERVAL;VALUE=DURATION:PT1H
X-Robots-Tag:noindex
X-PUBLISHED-TTL:PT1H
BEGIN:VTIMEZONE
TZID:America/Los_Angeles
BEGIN:DAYLIGHT
TZOFFSETFROM:-0800
TZOFFSETTO:-0700
TZNAME:PDT
DTSTART:20240310T100000
END:DAYLIGHT
BEGIN:STANDARD
TZOFFSETFROM:-0700
TZOFFSETTO:-0800
TZNAME:PST
DTSTART:20241103T090000
END:STANDARD
BEGIN:DAYLIGHT
TZOFFSETFROM:-0800
TZOFFSETTO:-0700
TZNAME:PDT
DTSTART:20250309T100000
END:DAYLIGHT
BEGIN:STANDARD
TZOFFSETFROM:-0700
TZOFFSETTO:-0800
TZNAME:PST
DTSTART:20251102T090000
END:STANDARD
BEGIN:DAYLIGHT
TZOFFSETFROM:-0800
TZOFFSETTO:-0700
TZNAME:PDT
DTSTART:20260308T100000
END:DAYLIGHT
BEGIN:STANDARD
TZOFFSETFROM:-0700
TZOFFSETTO:-0800
TZNAME:PST
DTSTART:20261101T090000
END:STANDARD
END:VTIMEZONE
BEGIN:VEVENT
DTSTART;VALUE=DATE:20250906
DTEND;VALUE=DATE:20250908
DTSTAMP:20260423T024915
CREATED:20250717T201752Z
LAST-MODIFIED:20250904T171804Z
UID:14812-1757116800-1757289599@www.atthegrounds.com
SUMMARY:WCVBA Boys Power League
DESCRIPTION:The WCVBA Power League Tournaments will be held @the Grounds in the Roebbelen Center. September 6-7: Boy’s Power League Qualifier: 15-16s\, 17s-18s \nClick here for Hotels
URL:https://www.atthegrounds.com/event/wcvba-boys-power-league/
LOCATION:Roebbelen Center (Entire)  – @the Grounds
CATEGORIES:Sports - Volleyball
ATTACH;FMTTYPE=image/png:https://www.atthegrounds.com/wp-content/uploads/2025/07/Screenshot_2024-04-08_at_11.28.07_AM_large.png
END:VEVENT
END:VCALENDAR